BEGIN:VCALENDAR
VERSION:2.0
PRODID:-//De Brink Obdam - Het bruisende hart van ons dorp - ECPv6.15.8//NONSGML v1.0//EN
CALSCALE:GREGORIAN
METHOD:PUBLISH
X-ORIGINAL-URL:https://www.debrinkobdam.nl
X-WR-CALDESC:Evenementen voor De Brink Obdam - Het bruisende hart van ons dorp
REFRESH-INTERVAL;VALUE=DURATION:PT1H
X-Robots-Tag:noindex
X-PUBLISHED-TTL:PT1H
BEGIN:VTIMEZONE
TZID:Europe/Paris
BEGIN:DAYLIGHT
TZOFFSETFROM:+0100
TZOFFSETTO:+0200
TZNAME:
DTSTART:20270328T010000
END:DAYLIGHT
BEGIN:STANDARD
TZOFFSETFROM:+0200
TZOFFSETTO:+0100
TZNAME:CET
DTSTART:20271031T010000
END:STANDARD
BEGIN:DAYLIGHT
TZOFFSETFROM:+0100
TZOFFSETTO:+0200
TZNAME:
DTSTART:20280326T010000
END:DAYLIGHT
BEGIN:STANDARD
TZOFFSETFROM:+0200
TZOFFSETTO:+0100
TZNAME:CET
DTSTART:20281029T010000
END:STANDARD
BEGIN:DAYLIGHT
TZOFFSETFROM:+0100
TZOFFSETTO:+0200
TZNAME:
DTSTART:20290325T010000
END:DAYLIGHT
BEGIN:STANDARD
TZOFFSETFROM:+0200
TZOFFSETTO:+0100
TZNAME:CET
DTSTART:20291028T010000
END:STANDARD
END:VTIMEZONE
BEGIN:VEVENT
DTSTART;TZID=Europe/Paris:20280914T100000
DTEND;TZID=Europe/Paris:20280914T113000
DTSTAMP:20260425T061740
CREATED:20251218T182025Z
LAST-MODIFIED:20251218T182531Z
UID:10012802-1852538400-1852543800@www.debrinkobdam.nl
SUMMARY:Koffiesoos in De Brink
DESCRIPTION:
URL:https://www.debrinkobdam.nl/activiteit-details/koffiesoos-in-de-brink-2-2-2/2028-09-14/
LOCATION:Klaver Giant Foyer
CATEGORIES:Agenda activiteiten De Brink
ATTACH;FMTTYPE=image/webp:https://www.debrinkobdam.nl/site/wp-content/uploads/2025/09/koffiesoos.webp
END:VEVENT
BEGIN:VEVENT
DTSTART;TZID=Europe/Paris:20280915T160000
DTEND;TZID=Europe/Paris:20280915T200000
DTSTAMP:20260425T061740
CREATED:20251202T155439Z
LAST-MODIFIED:20260112T150120Z
UID:10012407-1852646400-1852660800@www.debrinkobdam.nl
SUMMARY:VRIJMIBO in De Brink
DESCRIPTION:
URL:https://www.debrinkobdam.nl/activiteit-details/vrijmibo-2-2-2/2028-09-15/
LOCATION:Klaver Giant Foyer
CATEGORIES:Agenda activiteiten De Brink
ATTACH;FMTTYPE=image/jpeg:https://www.debrinkobdam.nl/site/wp-content/uploads/2023/08/vijmibo.jpg
END:VEVENT
BEGIN:VEVENT
DTSTART;TZID=Europe/Paris:20280928T100000
DTEND;TZID=Europe/Paris:20280928T113000
DTSTAMP:20260425T061740
CREATED:20251218T182025Z
LAST-MODIFIED:20251218T182531Z
UID:10012803-1853748000-1853753400@www.debrinkobdam.nl
SUMMARY:Koffiesoos in De Brink
DESCRIPTION:
URL:https://www.debrinkobdam.nl/activiteit-details/koffiesoos-in-de-brink-2-2-2/2028-09-28/
LOCATION:Klaver Giant Foyer
CATEGORIES:Agenda activiteiten De Brink
ATTACH;FMTTYPE=image/webp:https://www.debrinkobdam.nl/site/wp-content/uploads/2025/09/koffiesoos.webp
END:VEVENT
END:VCALENDAR